BEGIN:VCALENDAR
VERSION:2.0
PRODID:icalendar-ruby
CALSCALE:GREGORIAN
METHOD:PUBLISH
BEGIN:VEVENT
DTSTAMP:20260421T093418Z
UID:11-220032@acts9.tithelysetup5.com
DTSTART:20260503T131500Z
DTEND:20260503T143000Z
CLASS:PUBLIC
CREATED:20260420T211827
DESCRIPTION:
LAST-MODIFIED:20260420T211827
LOCATION:AMC 24 Orange Park 
SUMMARY:Acts 9 Sunday Service at AMC
URL;VALUE=URI:https://a9church.org/events/acts-9-sunday-service-at-amc/2026
 -05-03
END:VEVENT
END:VCALENDAR
